BEGIN:VCALENDAR
VERSION:2.0
PRODID:-//Malt Masters HK - ECPv6.15.20//NONSGML v1.0//EN
CALSCALE:GREGORIAN
METHOD:PUBLISH
X-ORIGINAL-URL:https://www.maltmastershk.com
X-WR-CALDESC:Events for Malt Masters HK
REFRESH-INTERVAL;VALUE=DURATION:PT1H
X-Robots-Tag:noindex
X-PUBLISHED-TTL:PT1H
BEGIN:VTIMEZONE
TZID:Asia/Hong_Kong
BEGIN:STANDARD
TZOFFSETFROM:+0800
TZOFFSETTO:+0800
TZNAME:HKT
DTSTART:20160101T000000
END:STANDARD
END:VTIMEZONE
BEGIN:VEVENT
DTSTART;TZID=Asia/Hong_Kong:20190518T170000
DTEND;TZID=Asia/Hong_Kong:20190518T220000
DTSTAMP:20260424T024509
CREATED:20190416T020221Z
LAST-MODIFIED:20190423T162119Z
UID:6282-1558198800-1558216800@www.maltmastershk.com
SUMMARY:All You Can Drink World Whisky 2019
DESCRIPTION:All You Can Drink World Whisky\n\n\n\n\n\nMalt Masters celebrates the third World Whisky Day in Hong Kong! Come along with your friends and join us on a night of a global celebration of whisk(e)y alongside live band music and foods. \nEach ticket includes unlimited drams of more than 25 different whiskies from around the world and a raffle ticket entry for a chance to win one of the exciting sponsored prizes. \n\n\nAll You Can Drink World Whisky\nEnjoy unlimited whisky from all over the world as you mingle with your friends and meet some new ones too! From Bourbon to Blends to Single Malts\, you will be spoiled for choice! Hopefully\, you will find a hidden gem or two! There will be over 25 bottles of varying world whisky expressions for you to try. That should keep everyone busy all night! (See whisky list below) \nDream Dram Corner\n\n\n\n\nDon’t miss the opportunity to experience and taste variety of the world’s most exclusive and rare whiskies by the Dream Dram Corner. \nFoods and Entertainment\n\n\n\n\nEnjoy the world whisky drams and foods with friends while listening to wonderful and relaxing live band music. \nCharity Draw\n\n\n\n\nAfter a huge success of the previous two year’s charity draw at the World Whisky Day\, we have raised about HKD11\,000 and donated to the charity organization. We are looking to make this year bigger and better. Raffle ticket holders will have a chance to win outstanding prizes ranging from whisky training programme voucher\, gift-sets to exceptional whisky bottles from participating brands and sponsors. All proceeds will be going to the selected charity organization. Make sure to buy a ticket or two so you don’t miss these fantastic prizes. \nBuy Ticket
URL:https://www.maltmastershk.com/event/all-you-can-drink-world-whisky-2019/
LOCATION:D·WORK\, 21/F\, Remex Centre\, ​42 Wong Chuk Hang Road\, ​Hong Kong\, Hong Kong
CATEGORIES:Whisky Fest
ATTACH;FMTTYPE=image/jpeg:https://www.maltmastershk.com/wp-content/uploads/2019/04/WWD-2019-Banner.jpg
END:VEVENT
BEGIN:VEVENT
DTSTART;TZID=Asia/Hong_Kong:20180519T190000
DTEND;TZID=Asia/Hong_Kong:20180519T220000
DTSTAMP:20260424T024510
CREATED:20180330T032437Z
LAST-MODIFIED:20180425T152610Z
UID:5689-1526756400-1526767200@www.maltmastershk.com
SUMMARY:World Whisky Day 2018
DESCRIPTION:World Whisky day is all about making whisky fun and enjoyable. It’s not about being exclusive or prescriptive\, it is about to be all inclusive and that means any kind of whisky or whiskey from anywhere in the world. – Blair Bowman (WWD Founder) \nFor the second year running\, Malt Masters invites you to enjoy some world drams and share a toast with us on World Whisky Day 2018.  It will be a global celebration of whisky; alongside live music\, fun and ultimately making friendships. Come along with your friends and introduce them to some fantastic whisky and meet other like-minded people. \nWORLD WHISKY DAY HIGHLIGHTS \n\nAll You Can Drink World Whiskies\nDream Dram Corner (Premium and Rare Whisky Drams)\nLive Band Music\nGames & Prize Draw\nFoods\nWhisky Sales\n\nEach entry ticket includes unlimited drams of about 20 different whiskies from around the world\, and a raffle ticket entry for a chance to win a Malt Masters sponsored prize. \nTickets are limited\, act fast!\nFor inquiries\, send email to info@maltmastershk.com \nBuy Ticket\n 
URL:https://www.maltmastershk.com/event/world-whisky-day-2018/
CATEGORIES:Whisky Fest
ATTACH;FMTTYPE=image/jpeg:https://www.maltmastershk.com/wp-content/uploads/2018/04/WWD-Banner-2.1.jpg
ORGANIZER;CN="Malt Masters":MAILTO:info@maltmastershk.com
END:VEVENT
BEGIN:VEVENT
DTSTART;VALUE=DATE:20171217
DTEND;VALUE=DATE:20171218
DTSTAMP:20260424T024511
CREATED:20171121T113032Z
LAST-MODIFIED:20171211T092931Z
UID:5498-1513468800-1513555199@www.maltmastershk.com
SUMMARY:Best of British Whisky Experience - DAY 2
DESCRIPTION:EVENT SUMMARY\nThe Best of British festival is back showcasing the best British brands that Hong Kong has to offer. This year it’s bigger than ever with the introduction of the Best of British Whisky Experience. \nA Whisky experience like no other; you will be able to enjoy some of the best drams in the world in one of Hong Kong’s most exciting outdoor venues at Tamar Park! \nLooking to understand whisky better at a more intimate level? Then sign up to one of our many fantastic and educational Masterclasses? Looking for a Christmas drink inspiration? Head over to our Whisky Cocktail Bar and explore the fantastic whisky cocktails our mixologists have created just for you! \nAlternatively\, take in the sights of Hong Kong whilst sipping on your favourite drams and mingling with old friends and hopefully new too! The weekend is a great opportunity for whisky enthusiasts to socialize with the whisky brands\, brand ambassadors and other whisky lovers. \nSunday 17th December: \n\nSession One – 12pm – 5:00pm\nSession Two – 5:30pm – 11pm\n\n\n\nTICKETS\nVIP LOUNGE –  HK $720\n***Use the promo code WHISKYMASTER10 and get 10% discount. \n\n 4 VIP drams enjoyed at the SMWS VIP BAR Hosted by Safe Bubbles and Malt\nUnlimited standard drams in the Whisky Experience main area\nX 2 Cocktails of your choice at the Whisky Cocktail Bar\nHK $100 food voucher to spend at Best of British food restaurants\nAccess to SMWS VIP Lounge where you can relax and enjoy your special drams\nFree gift with any whisky bottle purchase\nAll day access – As a VIP ticket holder\, you will have access to the Whisky Experience for the whole day which means you can enjoy the other activities that the Best of British has to offer\n$50 discount on Masterclasses upon when purchasing VIP ticket\n\nGENERAL ADMISSION EARLY BIRD – HK $250\n***(Use the promo code WHISKYMASTER10 and get 10% discount). \n\nUnlimited standard drams\n1 x Welcome Cocktail at the whisky cocktail bar\n$50 discount on Masterclass when purchasing standard ticket\nRelax and enjoy your drams in the seating area\nTalk with the brand representatives and discover new whisky\n\nGet your tickets HERE!\n\n\nSUNDAY 17TH DECEMBER – ITINERARY\nUnlimited Standard Drams \nAs part of your entry ticket\, participants will be able to enjoy unlimited standard drams from the brands on show whilst learning more about the expressions and distilleries with their representatives! You will also receive a Whisky Welcome Cocktail at our fabulous Whisky Cocktail Bar. \nWhisky Cocktail Bar \nVisit our Whisky Cocktail Bar where you can explore and experience the versatility of whisky as the perfect cocktail spirit. There will be a number of different cocktails to choose from using some fantastic Blends and Single Malts that will be showcased at the event over the weekend. \nVIP Lounge (VIP ticket holders only) \nThis year we are partnering with arguably the best Whisky Bar in Hong Kong; Safe Bubbles and Malt to host our VIP Lounge. Not only will there be some rare and interesting expressions for you to try but VIP ticket holders will enjoy 4 whiskies from SMWS and Elements of Islay expressions. \n***VIP tickets are limited to 100 per day so make sure you get yours fast. \nMasterclasses \nOver the Best of British weekend\, we will be hosting a number of informative and fun Masterclasses both educational and brand focused to give you an exciting insight into the world of Scotch! \n\n\nMASTERCLASSES\n2pm – 3pm\n“The Glenlivet “The Original Speyside Malt”  \nHK $250 \nOne of the worlds’ most recognised Scotch whisky\, The Glenlivet is a supremely elegant whisky of rewarding and subtle complexity. Famous for both its fascinating history and consistently high quality expressions\, this is a distillery that just keeps on giving. In this special Masterclass\, you will be able to taste and explore four of The Glenlivet’s iconic Single Malt Whiskies: \n\nThe Glenlivet 12 years old\nThe Glenlivet 15 years old\nThe Glenlivet 18 years old\nThe Glenlivet Nadurra year old\n\nCecilia Wong\, a certified Whisky Ambassador will present the Glenlivet range on behalf of Pernod Ricard where she will discuss the history of this distillery and what gives it its unique character. \n  \n3:30pm – 4:30pm\nTeeling Whiskey Company – ‘The Spirit of Dublin’ \nHK $250 \nThe Teeling Whiskey Company was founded in 2012 to revive the old Teeling family trademark of Irish whiskey and bring craft distilling back to the City of Dublin. \nLead by Jack and Stephen Teeling\, the Teeling Whiskey Company has quickly become the leading progressive Irish whiskey company by driving category choice and innovation through a selection of unique handcrafted small batch Irish whiskeys. \nIn this special masterclass you will be able to sample and explore three different styles of Irish whiskey and an Irish Poitín: \n\nTeeling Small Batch blended whiskey\nTeeling Single Grain\nTeeling Single Malt\nTeeling Spirit of Dublin Poitín\n\nGuy Horan\, Asia brand ambassador for the Teeling Whiskey Company\, will introduce you to the Dublin’s first new distillery in 125 years and discuss the revival of the Irish whiskey category. \n  \n8pm – 9pm\nMalt Masters – “An Introduction to Scotch Whisky”- HK$ 250 \nA unique and back to basics concept; our Taste of Scotland Whisky Tasting takes in an exciting and eclectic range of Scottish whiskies which help tell the story of Scotch Whisky’s evolution from an illicit and often untamed spirit to the celebrated\, world-renowned and burgeoning industry we know today. In this special tasting we cover all the key whisky producing regions which each\, in their own merit\, exude a wide spectrum of aromas and flavours born and shaped from the land the distilleries occupy. \nGet your tickets HERE!
URL:https://www.maltmastershk.com/event/best-of-british-whisky-experience-day-2-early-bird-ticket/
CATEGORIES:Whisky Fest
ATTACH;FMTTYPE=image/jpeg:https://www.maltmastershk.com/wp-content/uploads/2017/11/BOB-Web-Banner-1.jpg
ORGANIZER;CN="Malt Masters":MAILTO:info@maltmastershk.com
END:VEVENT
BEGIN:VEVENT
DTSTART;VALUE=DATE:20171216
DTEND;VALUE=DATE:20171217
DTSTAMP:20260424T024511
CREATED:20171121T111246Z
LAST-MODIFIED:20171211T092301Z
UID:5485-1513382400-1513468799@www.maltmastershk.com
SUMMARY:Best of British Whisky Experience - DAY 1
DESCRIPTION:EVENT SUMMARY\nThe Best of British festival is back showcasing the best British brands that Hong Kong has to offer. This year it’s bigger than ever with the introduction of the Best of British Whisky Experience \nA Whisky experience like no other; you will be able to enjoy some of the best drams in the world in one of Hong Kong’s most exciting outdoor venues at Tamar Park! \nLooking to understand whisky better at a more intimate level? Then sign up to one of our many fantastic and educational Masterclasses? Looking for a Christmas drink inspiration? Head over to our Whisky Cocktail Bar and explore the fantastic whisky cocktails our mixologists have created just for you! \nAlternatively\, take in the sights of Hong Kong whilst sipping on your favourite drams and mingling with old friends and hopefully new too! The weekend is a great opportunity for whisky enthusiasts to socialize with the whisky brands\, brand ambassadors and other whisky lovers. \nSaturday 16th December: \n\nSession One – 12pm- 5:00pm\nSession Two – 5:30pm- 11pm\n\n\n\nTICKETS\nVIP LOUNGE EARLY BIRD – HK $720\n***Use the promo code WHISKYMASTER10 and get 10% discount. \n\n 4 VIP drams enjoyed at the SMWS VIP BAR Hosted by Safe Bubbles and Malt\nUnlimited standard drams in the Whisky Experience main area\nX 2 Cocktails of your choice at the Whisky Cocktail Bar\nHK $100 food voucher to spend at Best of British food restaurants\nAccess to SMWS VIP Lounge where you can relax and enjoy your special drams\nFree gift with any whisky bottle purchase\nAll day access – As a VIP ticket holder\, you will have access to the Whisky Experience for the whole day which means you can enjoy the other activities that the Best of British has to offer\n$50 discount on Masterclasses upon when purchasing ticket\n\n\nGENERAL ADMISSION EARLY BIRD – HK $250\n***Use the promo code WHISKYMASTER10 and get 10% discount.\n \n\nUnlimited standard drams\n1 x Welcome Cocktail at the whisky cocktail bar\n$50 discount on Masterclass when purchasing standard ticket\nRelax and enjoy your drams in the seating area\nTalk with the brand representatives and discover new whisky\n\nGet your tickets HERE!\n\n\nSATURDAY 16TH DECEMBER – ITINERARY\nUnlimited Standard Drams \nAs part of your entry ticket\, participants will be able to enjoy unlimited standard drams from the brands on show whilst learning more about the expressions and distilleries with their representatives! You will also receive a Whisky Welcome Cocktail at our fabulous Whisky Cocktail Bar. \nWhisky Cocktail Bar \nVisit our Whisky Cocktail Bar where you can explore and experience the versatility of whisky as the perfect cocktail spirit. There will be a number of different cocktails to choose from using some fantastic Blends and Single Malts that will be showcased at the event over the weekend. \nVIP Lounge (VIP ticket holders only) \nThis year we are partnering with arguably the best Whisky Bar in Hong Kong; Safe Bubbles and Malt to host our VIP Lounge. Not only will there be some rare and interesting expressions for you to try but VIP ticket holders will enjoy 4 whiskies from SMWS and Elements of Islay expressions. \n***VIP tickets are limited to 100 per day so make sure you get yours fast. \nMasterclasses \nOver the Best of British weekend\, we will be hosting a number of informative and fun Masterclasses both educational and brand focused to give you an exciting insight into the world of Scotch! \n\n\nMASTERCLASSES\n2pm – 3pm\nGlendalough Distillery “Ireland’s First Craft Distillery” – HK $250 \n The Glendalough Distillery was set up by five friends from Wicklow and Dublin with a deep passion for reviving the heritage of craft distilling in Ireland. In the 18th & 19th centuries there were over 200 licensed distilleries in Ireland and along with countless unlicensed ones produced diverse styles of poitín\, whiskey\, gin and even absinthe. \nUntil recently that dropped to a small handful. Glendalough Distillery is now part of a revival of this heritage. The idea behind Glendalough Distillery is to make innovative spirits while staying true to the tradition and heritage of our ancestors. \nIn this special Masterclass you will be able to try 4 expressions from Glendalough showcasing alternate cask finishes including 2 single malts brand new to Hong Kong \n\nGlendalough 7 Year Old Original\nGlendalough 7 Year Old (2017 release) Porter Barrel Finish\nGlendalough 13 Year Old Original\nGlendalough 13 Year Old (2017 release) Mizunara Cask Finish\n\nPaul Gallagher\, the Glendalough Brand Ambassador in Hong Kong will present the Glendalough range where he will discuss how a young distillery evolves to meet market demands. \n  \n3:30pm -4:30pm\nCaskells “Independent Bottlers – Single Cask” – HK $350 \nSingle Cask whiskies are the purest form of whisky; direct from the barrel to the bottle\, each barrel has unique characteristics depending upon the distillery it came from\, the barrel the whisky was matured in\, and the location and time of maturation.  \nYou will be present a fantastic range of Independent Bottling’s from Hepburn’s Choice and First Edition’s produced by Hunter Laing who create some of the best IB expressions in the world! In this Masterclass you will discover what makes Single Cask whiskies special and uncover what to look for in a particular expression. You will also receive a fantastic introduction to Independent Bottlers\, what they are and how they are different to standard distillery expressions:  \nHepburn’s Choice\, Benrinnes 9 Year Old Quarter Cask\nHepburn’s Choice\, Caol Ila 5 Year Old Single Cask\nFirst Edition’s Glenrothes 20 Year Old Cask Strength\nFirst Edition’s Laphroaig 16 Year Old Cask Strength \nJohn Rhodes is an importer of specialist cask whiskies from Scotland and co-founder of the HK Whisky Festival. He is also the exclusive agent of Glencairn Whisky glassware in Asia. \n  \n6:15pm – 7:15pm\nAward Winning Aberlour “Made from Experience” – HK $350 \nAberlour single malt whisky is named after where it’s made. It means ‘the mouth of the chattering burn’ in Gaelic\, and this wild mountain stream is part of the Aberlour story. Cascading down over mossy waterfalls and through wooded glens\, its constant chatter can be heard as it flows past the distillery to join the Spey at Aberlour. \nThis VIP Masterclass will showcase the unique skills it takes to achieve the perfect balance of Aberlour single malts showcasing their multi-layered complexity. Discover four different expressions of Aberlour: \n\nAberlour 12 years old\nAberlour 16 years old\nAberlour 18 years old\nAberlour A’Bunadh\n\nCecilia Wong\, a certified Whisky Ambassador will present the Aberlour range on behalf of Pernod Ricard where she will discuss the history of this distillery and what gives it its unique character. \n  \n8pm – 9pm\nMalt Masters “Exploring the Scotch Whisky Regions” – HK$ 250 \nA unique and back to basics concept; our Taste of Scotland Whisky Tasting takes in an exciting and eclectic range of Scottish whiskies from the different regions which help tell the story of Scotch Whisky’s evolution from an illicit and often untamed spirit to the celebrated\, world-renowned and burgeoning industry we know today. In this special tasting we will taste a whisky from each of the key whisky producing regions and explore what make them so different from another as shaped by their terroir and regional characteristics. Each Scottish region\, in their own merit\, exude a wide spectrum of aromas and flavours born and shaped from the land the distilleries occupy. \nGet your tickets HERE!
URL:https://www.maltmastershk.com/event/best-of-british-whisky-experience-day-1-early-bird-pricing/
LOCATION:Tamar Park\, Admiralty\, Hong Kong
CATEGORIES:Whisky Fest
ATTACH;FMTTYPE=image/jpeg:https://www.maltmastershk.com/wp-content/uploads/2017/11/BOB-Web-Banner-1.jpg
ORGANIZER;CN="Malt Masters":MAILTO:info@maltmastershk.com
END:VEVENT
BEGIN:VEVENT
DTSTART;TZID=Asia/Hong_Kong:20171028T093000
DTEND;TZID=Asia/Hong_Kong:20171028T170000
DTSTAMP:20260424T024511
CREATED:20170720T065547Z
LAST-MODIFIED:20220107T115510Z
UID:5081-1509183000-1509210000@www.maltmastershk.com
SUMMARY:Whisky Masters Programme - October In-Take
DESCRIPTION:The Whisky Masters Programme is a full day whisky training experience which gives you the fundamental tools you need to understand and explore world whisky. We are an independent programme that is unique in that we do not focus on one region or brand (i.e. Scotland) but we explore all the major contributing whisky countries all over the world. \nWe will cover the origins of whisky\, history\, the end to end production and maturation processes to ultimately discover what has elevated it to the luxurious golden drink that we know today. \nWe will take you on a journey of in-depth discovery and offer you a wealth of knowledge to start you on your whisky adventure. Our Programme is an interactive learning environment where we put a lot of focus on the nosing\, tasting and overall sensory aspects of whisky. \nWhether you are just looking to broaden your knowledge\, impress your friends or being a career journey in Whisky; this course is the perfect launch-pad. \nAs a student\, you will receive your very own Glencairn tasting glass and our whisky masters tasting book. \nUpon successful completion of the Programme\, you will receive a “Whisky Masters Certificate” noting a pass or distinction award. \n\nTo register\, download and fill up the ENROLMENT FORM and send to info@maltmastershk.com. \nTo find out more details including the curriculum\, head to Our Services page
URL:https://www.maltmastershk.com/event/whisky-masters-programme-november-in-take/
CATEGORIES:Whisky Fest
ATTACH;FMTTYPE=image/png:https://www.maltmastershk.com/wp-content/uploads/2017/07/Whisky-Masters-Programme-OCTOBER.png
ORGANIZER;CN="Malt Masters":MAILTO:info@maltmastershk.com
END:VEVENT
BEGIN:VEVENT
DTSTART;TZID=Asia/Hong_Kong:20170923T093000
DTEND;TZID=Asia/Hong_Kong:20170923T170000
DTSTAMP:20260424T024511
CREATED:20170720T065359Z
LAST-MODIFIED:20170720T070741Z
UID:5077-1506159000-1506186000@www.maltmastershk.com
SUMMARY:Whisky Masters Programme- September In-take
DESCRIPTION:The Whisky Masters Programme is a full day whisky training experience which gives you the fundamental tools you need to understand and explore world whisky. We are an independent programme that is unique in that we do not focus on one region or brand (i.e. Scotland) but we explore all the major contributing whisky countries all over the world. \nWe will cover the origins of whisky\, history\, the end to end production and maturation processes to ultimately discover what has elevated it to the luxurious golden drink that we know today. \nWe will take you on a journey of in-depth discovery and offer you a wealth of knowledge to start you on your whisky adventure. Our Programme is an interactive learning environment where we put a lot of focus on the nosing\, tasting and overall sensory aspects of whisky. \nWhether you are just looking to broaden your knowledge\, impress your friends or being a career journey in Whisky; this course is the perfect launch-pad. \nAs a student you will receive your very own Glencairn tasting glass and our whisky masters tasting book. \nUpon successful completion of the Programme\, you will receive a “Whisky Masters Certificate” noting a pass or distinction award. \n\nTo find out more details including the curriculum\, head to Our Services page
URL:https://www.maltmastershk.com/event/whisky-masters-programme-september-in-take/
CATEGORIES:Whisky Fest
ATTACH;FMTTYPE=image/png:https://www.maltmastershk.com/wp-content/uploads/2017/07/Whisky-Masters-Programme-SEPTEMBER.png
ORGANIZER;CN="Malt Masters":MAILTO:info@maltmastershk.com
END:VEVENT
BEGIN:VEVENT
DTSTART;TZID=Asia/Hong_Kong:20170520T180000
DTEND;TZID=Asia/Hong_Kong:20170520T220000
DTSTAMP:20260424T024511
CREATED:20170423T044642Z
LAST-MODIFIED:20170428T031711Z
UID:4904-1495303200-1495317600@www.maltmastershk.com
SUMMARY:World Whisky Day Extravaganza 2017
DESCRIPTION:World Whisky Day was founded in 2012 by whisky enthusiast Blair Bowman\, who saught out to create a day where everyone around the world could share in the admiration and respect for World Whiskies. And one of the ways we do this is by sharing a dram of liquid gold with old friends and new! \nHere at Malt Masters\, organisers of Hong Kong’s first ever Whisky festival\, we have teamed up with the World Whisky Day folks to bring you lots of whisky charm and cheer! All toppped off with marvelous music and fantastic food; it’s sure to be the whisky social event of the year! \nYour entry ticket\nALL YOU CAN DRINK WHISKY- As part of your entry ticket you will be able to enjoy unlimited whisky from all over the world as you mingle with your friends and meet some new ones too! From Bourbon to Blends to Single Malts\, you will be spoiled for choice! Hopefully you will find a hidden gem or two! \nThere will be over 20 bottles of varying world whisky expressions for you to try. That should keep you busy all night! \nWIN A PRIVATE TASTING – Each ticket will be entered in to a competition for the chance to win a private tasting for two people hosted by a Malt Masters whisky specialist \nAround the world in 50 whiskies\nWant to try something a bit special? We will also have over 50 bottles of additional world whisky on offer for you to taste at an incredibly reduced price meaning you can widen your whisky knowledge and your tingling taste buds at the same time. \nWith brands such as Ardbeg\, Macallan\, Kavalan\, Amrut\, Bowmore and so much more you will be spoiled for choice in your quest for whisky perfection! \nWith prices as low as $40 per dram\, you are sure to keep coming back for more! \nPrize Draw- whisky style!\nWe have teamed up with the esteemed local Charity Feeding Hong Kong to hold a prize draw extravaganza. We have over 20 fantastic prize draws ranging from bottles of premium quality Single Malts and Private Tastings to Mystery themed boxes! That means 1 in 4 attendees will walk away with a fantastic prize! With all the proceeds going to charity be sure to buy a ticket or two in order to win one of these fantastic prizes. \n  \nRare Whisky Corner\nWe have teamed up with our friends over at Platinum Wines\, Hong Kong’s leading whisky investment fund\, to bring you some of the world’s rarest and most exclusive whiskies by the dram. These expressions are normally found only in high-end whisky bars or auctions but for one night only we are bringing them to you giving you the opportunity to taste perfection! \n  \nWhisky Shop\nAs you savour your dram of choice\, you will be able to peruse the pop-up whisky shop and buy a bottle or two that will be show-cased at the event\, fully hosted by our friends at HK Liquor Store. Not only that; but to celebrate World Whisky Day\, we will be offering world whisky whisky expressions  at a special price for one night only! \n 
URL:https://www.maltmastershk.com/event/world-whisky-day-extravaganza-2017/
LOCATION:Garage Society\, 299 Queen's Road Central\, Hong Kong\, Hong Kong\, Hong Kong
CATEGORIES:Whisky Fest
ATTACH;FMTTYPE=image/jpeg:https://www.maltmastershk.com/wp-content/uploads/2017/04/www-flyer-add-2.jpg
ORGANIZER;CN="Malt Masters":MAILTO:info@maltmastershk.com
END:VEVENT
END:VCALENDAR