BEGIN:VCALENDAR
VERSION:2.0
PRODID:-//Malt Masters HK - ECPv6.15.20//NONSGML v1.0//EN
CALSCALE:GREGORIAN
METHOD:PUBLISH
X-ORIGINAL-URL:https://www.maltmastershk.com
X-WR-CALDESC:Events for Malt Masters HK
REFRESH-INTERVAL;VALUE=DURATION:PT1H
X-Robots-Tag:noindex
X-PUBLISHED-TTL:PT1H
BEGIN:VTIMEZONE
TZID:Asia/Hong_Kong
BEGIN:STANDARD
TZOFFSETFROM:+0800
TZOFFSETTO:+0800
TZNAME:HKT
DTSTART:20150101T000000
END:STANDARD
END:VTIMEZONE
BEGIN:VTIMEZONE
TZID:Europe/London
BEGIN:DAYLIGHT
TZOFFSETFROM:+0000
TZOFFSETTO:+0100
TZNAME:BST
DTSTART:20150329T010000
END:DAYLIGHT
BEGIN:STANDARD
TZOFFSETFROM:+0100
TZOFFSETTO:+0000
TZNAME:GMT
DTSTART:20151025T010000
END:STANDARD
BEGIN:DAYLIGHT
TZOFFSETFROM:+0000
TZOFFSETTO:+0100
TZNAME:BST
DTSTART:20160327T010000
END:DAYLIGHT
BEGIN:STANDARD
TZOFFSETFROM:+0100
TZOFFSETTO:+0000
TZNAME:GMT
DTSTART:20161030T010000
END:STANDARD
BEGIN:DAYLIGHT
TZOFFSETFROM:+0000
TZOFFSETTO:+0100
TZNAME:BST
DTSTART:20170326T010000
END:DAYLIGHT
BEGIN:STANDARD
TZOFFSETFROM:+0100
TZOFFSETTO:+0000
TZNAME:GMT
DTSTART:20171029T010000
END:STANDARD
END:VTIMEZONE
BEGIN:VEVENT
DTSTART;TZID=Asia/Hong_Kong:20180629T070000
DTEND;TZID=Asia/Hong_Kong:20180629T210000
DTSTAMP:20260424T093748
CREATED:20180527T102911Z
LAST-MODIFIED:20180527T135652Z
UID:5881-1530255600-1530306000@www.maltmastershk.com
SUMMARY:A Night of Whisky & Cheese
DESCRIPTION:Come and try some of the excellent drams from Scotland paired with fine selection of cheeses from France.\nFour expressions from the whisky regions of Scotland: Deanston Virgin Cask (Highland)\, Ledaig 10 Year Old (Island)\, Balvenie 14 Year Old Caribbean Cask (Speyside)\, and Elements of Islay Lg3 (Islay). Each whisky will be paired with fine cheese selections from Hervé MonS and professionally selected to match and complement the flavours of each dram. \nHervé MonS was awarded as “Meilleur Ouvrier de France” (Best Artisan Craftsman of France) on the year 2000. \nThis event is fully hosted by our very own Malt Masters Whisky Ambassador\, who is on hand to answer any questions you may have. \n29 June | Friday | 7 PM\nSafe Bubbles & Malt\nManhattan Avenue\n255 Queen’s Road Central\nHong Kong\n$450 Per Person\nRSVP to info@safe255.hk or info@maltmastershk.com \nYou can get your ticket online HERE
URL:https://www.maltmastershk.com/event/a-night-of-whisky-cheese/
LOCATION:Safe Bubbles & Malt Whisky Bar\, 255 Queen's Road Central\, Sheung Wan\, Hong Kong\, Hong Kong
CATEGORIES:Themed Tasting
ATTACH;FMTTYPE=image/jpeg:https://www.maltmastershk.com/wp-content/uploads/2018/05/Whisky-Cheese.jpg
ORGANIZER;CN="Malt Masters":MAILTO:info@maltmastershk.com
END:VEVENT
BEGIN:VEVENT
DTSTART;TZID=Asia/Hong_Kong:20180419T190000
DTEND;TZID=Asia/Hong_Kong:20180419T210000
DTSTAMP:20260424T093748
CREATED:20180325T113539Z
LAST-MODIFIED:20180407T032905Z
UID:5683-1524164400-1524171600@www.maltmastershk.com
SUMMARY:Independent Bottling: Rich\, Bold\, and Unique
DESCRIPTION:Distilleries produce the spirits but they don’t own and bottle every cask of whisky stored in the warehouses of Scotland. They swap and sell both new spirits and casks of mature whisky to other companies who are independently making whiskies under their own brand\, the #IndependentBottlers. \nMalt Masters’ whisky expert and specialist will take you on a journey discovering behind-the-scene of Independent Bottlers. Join us to taste 4 whiskies from different Independent Bottlers\, the Hepburn’s Choice\, Duncan Taylor Scotch Whisky Ltd\, Douglas Laing & Co.\, and Ian Macleod Distillers Limited; and experience their rich taste\, bold aromas\, and unique stories behind.… \nFor inquiries\, send email to info@maltmastershk.com \nBuy Ticket
URL:https://www.maltmastershk.com/event/independent-bottling-rich-bold-and-unique/
LOCATION:Centre O\, 24/F\, Trade Centre\, 135 Bonham Strand East\,\, Sheung Wan\, Hong Kong
CATEGORIES:Themed Tasting
ATTACH;FMTTYPE=image/jpeg:https://www.maltmastershk.com/wp-content/uploads/2018/03/IB-Tasting-Banner.jpg
ORGANIZER;CN="Malt Masters":MAILTO:info@maltmastershk.com
END:VEVENT
BEGIN:VEVENT
DTSTART;TZID=Asia/Hong_Kong:20171013T193000
DTEND;TZID=Asia/Hong_Kong:20171013T203000
DTSTAMP:20260424T093748
CREATED:20170919T081950Z
LAST-MODIFIED:20170919T082729Z
UID:5118-1507923000-1507926600@www.maltmastershk.com
SUMMARY:Premium Whisky: A Taste of Speyside
DESCRIPTION:Join us for an evening of Speyside Whisky at the fantastic Safe Bubbles and Malt Bar\, as we explore some of it’s finest distilleries and introduce you to this unique region with even more unique flavour profiles. \nThe Speyside region of Scotland holds some of the most famous distilleries in the world: The Glenlivet\, Glenfiddich\, The Glen Grant and The Macallan. BUT did you know that Speyside is home to half of Scotlands Malt Whisky distilleries prodcing some of the lightest\, sweetest and robust malts in the world? \nIn this special “Taste of Speyside” Tasting we will uncover some of the secrets of this whisky producing region and dedicate time to discussing each of the premium bottling which\, in their own merit\, exude a wide spectrum of aromas and flavours born and shaped from the unique land the distilleries occupy. We will also cover the origins\, production\, and the maturation processes to gain an understanding of how the golden liquid ends up in our glasses. \n  \nThe Whiskies\n\n\nSMWS Glen Elgin\, 9 Year Old\, Cask Strength\nGlengoyne 12 Year Old\, Sansibar\nSamaroli Glen Moray 16 Year Old\, 1998 Vintage\nSpeymalt 23 Year Old\, 1977 Vintage\n\n\n\n\n\nThis event is fully hosted by our very own Malt Masters Whisky Ambassador in partnership with Safe Bubbles and Malt\, who is on hand to answer any questions you may have. Snacks will also be provided.\n\n\n\nPlease Note- Cancellations made within 24 hours of the Tasting will not be refunded. Alternatively\, purchased tickets can be transferred to another tasting event.
URL:https://www.maltmastershk.com/event/premium-whisky-a-taste-of-speyside/
LOCATION:Safe Bubbles & Malt Whisky Bar\, 255 Queen's Road Central\, Sheung Wan\, Hong Kong\, Hong Kong
CATEGORIES:Themed Tasting
ATTACH;FMTTYPE=image/png:https://www.maltmastershk.com/wp-content/uploads/2017/09/speyside-tasting@-safe.png
ORGANIZER;CN="Malt Masters":MAILTO:info@maltmastershk.com
END:VEVENT
BEGIN:VEVENT
DTSTART;TZID=Asia/Hong_Kong:20170818T193000
DTEND;TZID=Asia/Hong_Kong:20170818T210000
DTSTAMP:20260424T093748
CREATED:20170727T050207Z
LAST-MODIFIED:20170727T050207Z
UID:5098-1503084600-1503090000@www.maltmastershk.com
SUMMARY:Whisky Tasting- Scotland Vs Japan
DESCRIPTION:World whisky is on the rise\, with new distilleries popping up all over\, and older\, more established world whiskies finally getting the accolades they deserve. This trend of world whisky arguably started with Japan. The Japanese have been making whisky for over a hundred years now\, and since the opening of the first distillery\, The Yamazaki\, in 1924 they have grown to become world powers in whisky. So much so that Japanese whisky is now very expensive\, rare and collectable! \nThe Japanese learned all of their techniques from Scotland\, the Father of Whisky\, and have since evolved their own style using the fundamentals of Scotch Whisky production. \nIn this tasting we will go through the whisky basics from distillation to aging\, and talk you through the history of how Scotland and Japan came to produce some of the world’s most sought after whiskies. We will taste two whiskies from Scotland and two whiskies from Japan\, discerning their flavours and differences. Ultimately you will decide which you prefer! \nThe Whiskies\n——————————————– \nGolden Horse Musashi Pure Malt Whisky (43% Vol.)-  Limited number of bottles ever released. A young but superbly delicate and crisp whisky! \nHakushu Single Malt Whisky- Distiller’s Reserve (43% Vol)- a Suntory whisky that captures the smoky characterstics of the Japanese style! \nLagavulin 16 YO (43% Vol.)- Probably the most pungent of all Islay malts\, Lagavulin is not for the faint-hearted but inspires fanatical devotion in its many followers. \nAberfeldy 12 YO (40% Vol.)- a classic introduction to a Highland single malt with clean\, fruit and honey flavours. \n\n\n\nThis event is fully hosted by our very own Malt Masters Whisky Ambassador\, who is on hand to answer any questions you may have. Snacks will also be provided. \nPlease Note- Cancellations made within 24 hours of the Tasting will not be refunded. Alternatively\, purchased tickets can be transferred to another tasting event.
URL:https://www.maltmastershk.com/event/whisky-tasting-scotland-vs-japan/
LOCATION:Hong Kong
CATEGORIES:Themed Tasting
ATTACH;FMTTYPE=image/png:https://www.maltmastershk.com/wp-content/uploads/2017/07/japan-versus-scotch.png
ORGANIZER;CN="Malt Masters":MAILTO:info@maltmastershk.com
END:VEVENT
BEGIN:VEVENT
DTSTART;TZID=Asia/Hong_Kong:20170728T200000
DTEND;TZID=Asia/Hong_Kong:20170728T220000
DTSTAMP:20260424T093748
CREATED:20170705T024804Z
LAST-MODIFIED:20170720T070846Z
UID:5030-1501272000-1501279200@www.maltmastershk.com
SUMMARY:Islay Whisky Tasting
DESCRIPTION:                 \nMalt Masters have teamed up with Hong Kong’s most prestigious whisky bar: Safe Bubbles and Malt; to take you on a whisky trip to Islay. Let us transport you to the Scottish Atlantic coast\, beaten by wind and sea\, for a night of Islay mystery! Sampling 4 premium malts and uncovering the secrets to their smokey\, salty notes. We will guide you through their unique tastes and aromas; whilst sharing stories from this ancient isle. \nIn this special tasting\, we will conver the basics of whisky making and production with a deserved focus on Islay and its influence as a whisky producing region and arguably the most famous in the world. \nTo make this tasting extra special we are showcasing some of the most sought after whisky in the industry; you will be blown away with what’s on offer. \n\n\nThe Whiskies\nSMWS Bowmore 16 Year Old (58.3% vol)- One of only 615 bottles \nSMWS Caol Ila 18 Year Old (60% vol)- One of only 575 bottles \nBunnahabhain 18 Year Old (46.3% vol)- One of the oldest distilleries on Islay \nSamaroli Ferry to Islay Malt\, FIRST EDITION- \n\n  \n\nThe Brands\nThe Scotch Malt Whisky Society (SMWS) \n———————————————– \nThe Scotch Malt Whisky Society (SMWS)\, founded in Edinburgh in 1983\, is a membership organisation which bottles and sells some of the worlds most sought after single cask\, single malt Whisky. As an Indepedent Bottler; it purchases individual casks from more than 125 malt whisky distilleries in Scotland and throughout the world\, bottles them and retails them directly to their customers. \n  \nSamaroli \n———————————————— \nThe name Samaroli has become synonymous to whisky enthusiasts with rarity\, legend and immense beauty. The Independent Bottling company- originally founded by Silvano Samaroli- was one of the first dedicated bottlers to actively promote cask strength whisky\, and is still one of the only ones to tout the beneficial effects of bottle afeing with the much-loved line on the rear labels; ‘Further matues in its bottle’. \nThroughout the 1980s\, Samaroli released dosens of bottlins which are now consiered ‘LEGENDS’ and are highly sought at auction. The artistry of the labels has also proved influentual oer the years with numerous bottlers taking inspiration from Samaroli’s artistic style. \n  \nBunnahabhain \n———————————————- \nThe Bunnahabhain Distillery was founded in 1881 near Port Askaig on Islay. The village of Bunnahabhain was founded to house its workers. Bunnahabhain’s history is fascinating and as they say on their website: ‘we have many tales to tell’. \nThe Bunnahabhain is one of the milder single malt Islay whiskies available and its taste varies greatly from other spirits to be found on the island of Islay\, off the west coast of Scotland. \n  \n \nSafe Bubbles & Malt (Boasting an extensive collection of over 700 of the world’s top malt whiskies and premium champagnes\, Safe Bubbles & Malt is the only bar in Asia to have such a prestigious collection\, as well as being the only Hong Kong distributor for the Scotch Malt Whisky society\, the world’s foremost whisky club. \n \n  \nThis event is fully hosted by our very own Malt Masters Whisky Ambassador\, who is on hand to answer any questions you may have. Snacks will be provided. \nPlease Note- Cancellations made within 24 hours of the Tasting will not be refunded. Alternatively\, purchased tickets can be transferred to another tasting event.
URL:https://www.maltmastershk.com/event/islay-whisky-tasting/
LOCATION:Safe Bubbles & Malt Whisky Bar\, 255 Queen's Road Central\, Sheung Wan\, Hong Kong\, Hong Kong
CATEGORIES:Themed Tasting
ATTACH;FMTTYPE=image/png:https://www.maltmastershk.com/wp-content/uploads/2017/07/SBM-Islay-Tasting-facebook-cover.png
ORGANIZER;CN="Malt Masters":MAILTO:info@maltmastershk.com
END:VEVENT
BEGIN:VEVENT
DTSTART;TZID=Asia/Hong_Kong:20170630T193000
DTEND;TZID=Asia/Hong_Kong:20170630T210000
DTSTAMP:20260424T093748
CREATED:20170606T095234Z
LAST-MODIFIED:20170612T013656Z
UID:5011-1498851000-1498856400@www.maltmastershk.com
SUMMARY:Whisky Tasting- Independent Bottlers
DESCRIPTION:Here is your chance to understand\, explore and taste some of Scotlands best Independent Bottled Whisky! Once you look beyond the whiskies that are released by distilleries\, you will uncover a whole new whisky world out there: the world of Independent Bottlers! \nDid you know that distilleries don’t own every cask of whisky hidden in the warehouses of Scotland? Sure; they make the new spirit but as soon as it leaves the still it can go on an adventure with distilleries swapping both new spirit and casks of mature whisky. \nAs a result; we now live in a world with lots of other whisky companies out there\, who are independent of the  distilleries\, meaning they can experiment to make a whisky completely unique from its original source and some of them are the best selling whiskies in the world. \nJoin Malt Masters whisky experts and let us take you on a journey of Independent Bottler discovery; tasting 4 Independant Bottles from different Scottish regions and let us guide you through their unique tastes\, aromas and origin stories! \n\nThe Whiskies\n– IAN MACLEOD DISTILLERS:  \nAs We Get It Islay (61.3% ABV): From Ian Macleod’s As We Get It series comes a cask strength single malt Scotch whisky from the isle of Islay\, renowned for its peaty whiskies. \n– DOUGLAS LAING:  \nRock Oyster Cask Stength (57.4% ABV)- Douglas Laing’s Small Batch bottling has a truly maritime and oceanic character of sea-salt\, sweet peat\, smoke\, honey and pepper. Containing the finest Malt Whiskies from Scotland’s Whisky islands\, including those distilled on Islay\, Arran\, Orkney and Jura!  \n– DUNCAN TAYLOR DISTILLERS: \nThe Octave Collection\, Glenallachie 2008 (52.6% ABV) \nThe Dimensions Collection\, Tomatin 2009\, 6 YO\, (52.8%) \nDuncan Taylor & Company has ownership of one of the largest privately-held collections of rare scotch whisky casks. The company has been “laying down” casks from premium Scottish distilleries for decades and has\, in recent years\, made its branded products available to whisky connoisseurs throughout the World. \n\nPlease Note- Cancellations made within 24 hours of the Tasting will not be refunded. Alternatively\, purchased tickets can be transferred to another tasting event.
URL:https://www.maltmastershk.com/event/whisky-tasting-independant-bottlers/
LOCATION:24th Floor\, 135 Bonham Strand East\, Sheung Wan\, Hong Kong
CATEGORIES:Themed Tasting
ATTACH;FMTTYPE=image/png:https://www.maltmastershk.com/wp-content/uploads/2017/06/Whisky-Tasting-1.png
ORGANIZER;CN="Malt Masters":MAILTO:info@maltmastershk.com
END:VEVENT
BEGIN:VEVENT
DTSTART;TZID=Asia/Hong_Kong:20170330T193000
DTEND;TZID=Asia/Hong_Kong:20170330T210000
DTSTAMP:20260424T093748
CREATED:20170228T192039Z
LAST-MODIFIED:20170305T195557Z
UID:4794-1490902200-1490907600@www.maltmastershk.com
SUMMARY:Introduction to World Whisky
DESCRIPTION:Our Introduction to World Whisky Tasting is for newcomers and enthusiasts alike. Whisky is on the increase around the world with more and more countries producing splendid expressions and experimenting with new flavour combinations. We aim to highlight the regional styles and variances available from whiskies around the world. We will cover the origins\, production\, and the maturation processes to gain an understanding of how the golden liquid ends up in our glasses. Then we will move on to taste 4 Whiskies from each of the main whisky producing countries; including Scotland and Japan. \nNot only will you have a fun night with our ambassadors but you will leave our tasting with the confidence to explain the difference between a Bourbon WhiskEy and a Scotch Whisky! \n\nThe Whiskies \n\nJapan- Hibiki Japanese Harmony\, 43% Vol. One of Japans most famous blended whisky\nScotland– Caol Ila 12 Year Old\, 43% Vol. The largest of all Islay distilleries\nUSA- Elijah Craig 12 Year Old\, 47% Vol. This distillery was named after a preacher!\nWales- Penderyn Madeira Cask Finish. Yes… Welsh Whisky with a unique production process\n\n\nThis event is fully hosted by our very own Malt Masters Whisky Ambassador\, who is on hand to answer any questions you may have. Snacks will also be provided. \n  \nPlease Note- Cancellations made within 24 hours of the Tasting will not be refunded. Alternatively\, purchased tickets can be transferred to another tasting event. \nOur venue entrance can be found just opposite ICLUB Hotel on Bonham Strand
URL:https://www.maltmastershk.com/event/introduction-to-world-whisky/
LOCATION:Bonham Trade Centre\, 24/F 01\, 135 Bonham Strand East\, Hong Kong
CATEGORIES:Themed Tasting
ATTACH;FMTTYPE=image/jpeg:https://www.maltmastershk.com/wp-content/uploads/2017/03/20160226-DSC_6510-copy.jpg
ORGANIZER;CN="Malt Masters":MAILTO:info@maltmastershk.com
END:VEVENT
BEGIN:VEVENT
DTSTART;TZID=Asia/Hong_Kong:20170216T073000
DTEND;TZID=Asia/Hong_Kong:20170216T203000
DTSTAMP:20260424T093748
CREATED:20170125T220243Z
LAST-MODIFIED:20170125T221218Z
UID:4755-1487230200-1487277000@www.maltmastershk.com
SUMMARY:Malt Masters Whisky Tasting- A Taste of Islay
DESCRIPTION:Join Malt Masters and let us take you to the Scottish Atlantic coast\, beaten by wind and sea\, for a night of Islay mystery! Sampling 4 of the classic Islay malts and uncovering the secrets to their smokey\, salty notes. We will guide you through their unique tastes and aromas; whilst sharing stories from this ancient isle. \n \nIn this special tasting we will cover the basics of whisky making and production with a deserved focus on Islay and it’s influence as a whisky producing region and arguably the most famous in the world. \n\nThe Whiskies\nArdbeg Corryvreckan (57.1% vol)– World’s Best Single Malt Whisky at the World Whisky Awards 2010 and Best No Age Statement Scotch from Jim Murray’s Whisky Bible.\nBowmore 15 Darkest (43% vol)– This whisky spends its last 3 years matured in an Oloroso sherry cask and is an example of a perfect marriage of peaty smoke and sweet sherry.\nKilchoman Machir Bay (46% vol)– The distillery baby of the group but is producing some spectaculat expressions. This one gives us a mix of both ex-bourbon barrels and oloroso sherry butts. \nBunnahabhain 12 years old (46.3% vol)– This lightly peated Islay whisky is the most tame of the pack but still packs a flavour punch! Great for Islay beginners. \n  \nThis event is fully hosted by our very own Malt Masters Whisky Ambassador\, who is on hand to answer any questions you may have. Snacks will be provided. \n  \n\nPlease Note- Cancellations made within 24 hours of the Tasting will not be refunded. Alternatively\, purchased tickets can be transferred to another tasting event.
URL:https://www.maltmastershk.com/event/malt-masters-whisky-tasting-a-taste-of-islay/
LOCATION:Bonham Trade Centre\, 24/F 01\, 135 Bonham Strand East\, Hong Kong
CATEGORIES:Themed Tasting
ATTACH;FMTTYPE=image/jpeg:https://www.maltmastershk.com/wp-content/uploads/2013/10/20160227-DSC_6741.jpg
ORGANIZER;CN="Malt Masters":MAILTO:info@maltmastershk.com
END:VEVENT
BEGIN:VEVENT
DTSTART;TZID=Europe/London:20161130T193000
DTEND;TZID=Europe/London:20161130T210000
DTSTAMP:20260424T093748
CREATED:20161124T032130Z
LAST-MODIFIED:20161130T003524Z
UID:4554-1480534200-1480539600@www.maltmastershk.com
SUMMARY:Spirit of Speyside Tasting
DESCRIPTION:Join us for an evening of Speyside Whisky as we explore some of it’s finest distilleries and introduce you to this unique region with even more unique flavour profiles. \nThe Speyside region of Scotland holds some of the most famous distilleries in the world: The Glenlivet\, Glenfiddich\, The Glen Grant and The Macallan. But did you know that Speyside is home to half of Scotland’s Malt Whisky distilleries producing some of the lightest\, sweetest malts in the world. \nIn this special “Spirit of Speyside” Tasting we will uncover some of the secrets of this whisky producing region and dedicate time to discussing each of the distilleries which\, in their own merit\, exude a wide spectrum of aromas and flavours born and shaped from the unique land the distilleries occupy. We will also cover the origins\, production\, and the maturation processes to gain an understanding of how the golden liquid ends up in our glasses. \nThe Whiskies: \nCraigellachie 13 Year Old\nBenRiach 12 Year Old\nThe Balvenie Double Wood 12 Year Old\nThe Macallan Sherry Cask 12 Year Old \nTickets- $280pp \nhttps://www.eventbrite.hk/e/spirit-of-speyside-whisky-tasting-tickets-29244421853
URL:https://www.maltmastershk.com/event/spirit-of-speyside-tasting/
LOCATION:Bonham Trade Centre\, 24/F 01\, 135 Bonham Strand East\, Hong Kong
CATEGORIES:Themed Tasting
ATTACH;FMTTYPE=image/jpeg:https://www.maltmastershk.com/wp-content/uploads/2016/11/Spirit-of-speyside-e1480495065626.jpg
ORGANIZER;CN="Malt Masters":MAILTO:info@maltmastershk.com
END:VEVENT
BEGIN:VEVENT
DTSTART;TZID=Asia/Hong_Kong:20160831T190000
DTEND;TZID=Asia/Hong_Kong:20160831T210000
DTSTAMP:20260424T093748
CREATED:20160824T053658Z
LAST-MODIFIED:20161201T000327Z
UID:4371-1472670000-1472677200@www.maltmastershk.com
SUMMARY:Malt Masters August Whisky Club- Swedish Whisky!
DESCRIPTION:Swedish Whisky and Cheese \nFor August Whisky Club we are going all Scandinavian; serving up some fine Swedish Whisky from the modern Mackmyra distillery. \nNot only that\, we have teamed up with our friends at The Duch Cheese and More shop where we will be pairing the Swedish whisky with Dutch cheese and snacks! \nWhisky Club is a casual meeting of whisky lovers and drinkers and is not a formal tasting. It’s an opportunity to come and learn more about whisky and try some flavours you haven’t had before and\, of course\, make some friends. \nAs usual\, tickets are $150 on the door and you can taste as many drams as you like until the bottles go empty! \nSee you there for a few drams!
URL:https://www.maltmastershk.com/event/malt-masters-august-whisky-club/
LOCATION:The Dutch Cheese\, 232 Queen's Road Central\, Hong Kong
CATEGORIES:Themed Tasting
ATTACH;FMTTYPE=image/jpeg:https://www.maltmastershk.com/wp-content/uploads/2016/08/Whisky-Club-august.jpg
END:VEVENT
BEGIN:VEVENT
DTSTART;TZID=Asia/Hong_Kong:20160826T073000
DTEND;TZID=Asia/Hong_Kong:20160826T210000
DTSTAMP:20260424T093748
CREATED:20161201T000856Z
LAST-MODIFIED:20161201T000856Z
UID:4571-1472196600-1472245200@www.maltmastershk.com
SUMMARY:Introduction to Scotch Whisky
DESCRIPTION:Our Introduction to Scotch Whisky Tasting is for newcomers and enthusiasts alike. Whisky is on the increase around the world with more and more distilleries opening each year; but in order to truly understand whisky we have to go back to where it all started; Scotland. \nA back to basics tasting; our introduction to Scotch Whisky Tasting takes a look at an exciting range of Scottish whiskies which tell the story of Scotch Whisky’s colourful evolution. We will uncover Scotch Whiskies secrets growing from an illicit and often untamed spirit to the celebrated and world-renowned golden liquor we know today. \nIn this special tasting we cover all the key whisky producing regions which each\, in their own merit\, exude a wide spectrum of aromas and flavours born and shaped from the land the distilleries occupy. We will also cover the origins\, production\, and the maturation processes to gain an understanding of how the golden liquid ends up in our glasses. \nThis event is fully hosted by our very own Malt Masters Whisky Ambassador\, who is on hand to answer any questions you may have. Snacks will also be provided. \nTickets are $260pp and can be purchased via the event brite link.
URL:https://www.maltmastershk.com/event/introduction-to-scotch-whisky/
LOCATION:Bonham Trade Centre\, 24/F 01\, 135 Bonham Strand East\, Hong Kong
CATEGORIES:Themed Tasting
ATTACH;FMTTYPE=image/jpeg:https://www.maltmastershk.com/wp-content/uploads/2013/10/20160227-DSC_6741.jpg
END:VEVENT
END:VCALENDAR