BEGIN:VCALENDAR
VERSION:2.0
PRODID:-//Malt Masters HK - ECPv6.15.20//NONSGML v1.0//EN
CALSCALE:GREGORIAN
METHOD:PUBLISH
X-ORIGINAL-URL:https://www.maltmastershk.com
X-WR-CALDESC:Events for Malt Masters HK
REFRESH-INTERVAL;VALUE=DURATION:PT1H
X-Robots-Tag:noindex
X-PUBLISHED-TTL:PT1H
BEGIN:VTIMEZONE
TZID:Asia/Hong_Kong
BEGIN:STANDARD
TZOFFSETFROM:+0800
TZOFFSETTO:+0800
TZNAME:HKT
DTSTART:20170101T000000
END:STANDARD
END:VTIMEZONE
BEGIN:VEVENT
DTSTART;TZID=Asia/Hong_Kong:20210828T130000
DTEND;TZID=Asia/Hong_Kong:20210828T170000
DTSTAMP:20260424T004558
CREATED:20190416T013106Z
LAST-MODIFIED:20210509T031933Z
UID:6278-1630155600-1630170000@www.maltmastershk.com
SUMMARY:Whisky Masters Programme: Expert Course
DESCRIPTION:Certificate of Expertise in Wood and Maturation\nGain the key knowledge and skills needed to be a successful whisky professional with the Whisky Masters Programme: Certificate of Expertise in Wood and Maturation. \nRegister now and secure your place\, seats are limited! Click below for more details and registration. \nRegister Now!
URL:https://www.maltmastershk.com/event/whisky-masters-programme-expert-course/
CATEGORIES:Whisky Education
ATTACH;FMTTYPE=image/jpeg:https://www.maltmastershk.com/wp-content/uploads/2019/04/WMP-2-Web-Banner.jpg
ORGANIZER;CN="Malt Masters":MAILTO:info@maltmastershk.com
END:VEVENT
BEGIN:VEVENT
DTSTART;TZID=Asia/Hong_Kong:20210731T130000
DTEND;TZID=Asia/Hong_Kong:20210731T170000
DTSTAMP:20260424T004558
CREATED:20200602T141410Z
LAST-MODIFIED:20210717T032832Z
UID:9224-1627736400-1627750800@www.maltmastershk.com
SUMMARY:Whisky Masters Programme: Advance Course
DESCRIPTION:The Art of Whisky Making & Appreciation\nLed by industry experts\, join this full-day course and we will take you on a journey of in-depth discovery and offer you a wealth of knowledge and expertise to advance you on your whisky adventure. \nRegister now and secure your place\, seats are limited! Click below for more details and registration. \nRegister Now!
URL:https://www.maltmastershk.com/event/whisky-masters-programme-advance-course/
CATEGORIES:Whisky Education
ATTACH;FMTTYPE=image/jpeg:https://www.maltmastershk.com/wp-content/uploads/2019/04/WMP-2-Web-Banner.jpg
ORGANIZER;CN="Malt Masters":MAILTO:info@maltmastershk.com
END:VEVENT
BEGIN:VEVENT
DTSTART;TZID=Asia/Hong_Kong:20210626T130000
DTEND;TZID=Asia/Hong_Kong:20210626T170000
DTSTAMP:20260424T004558
CREATED:20180304T115545Z
LAST-MODIFIED:20210509T031507Z
UID:5673-1624712400-1624726800@www.maltmastershk.com
SUMMARY:Whisky Masters Programme: Basic Course
DESCRIPTION:Introduction to Scotch Whisky\n\nGet your whisky journey started\, become the expert and key opinion leader in the fascinating world of whisky with the Whisky Masters Programme. \nRegister now and secure your place\, seats are limited! Click below for more details and registration. \nRegister Now!
URL:https://www.maltmastershk.com/event/whisky-masters-programme-basic-course/
CATEGORIES:Whisky Education
ATTACH;FMTTYPE=image/jpeg:https://www.maltmastershk.com/wp-content/uploads/2019/04/WMP-2-Web-Banner.jpg
ORGANIZER;CN="Malt Masters":MAILTO:info@maltmastershk.com
END:VEVENT
BEGIN:VEVENT
DTSTART;TZID=Asia/Hong_Kong:20180224T090000
DTEND;TZID=Asia/Hong_Kong:20180224T170000
DTSTAMP:20260424T004558
CREATED:20171202T145151Z
LAST-MODIFIED:20220107T115606Z
UID:5610-1519462800-1519491600@www.maltmastershk.com
SUMMARY:Whisky Masters Programme - February 2018
DESCRIPTION:The Whisky Masters Programme is a full day whisky training experience which gives you the fundamental tools you need to understand and explore world whisky. We are an independent programme that is unique in that we do not focus on one region or brand (i.e. Scotland) but we explore all the major contributing whisky countries all over the world. \nWe will cover the origins of whisky\, history\, the end to end production and maturation processes to ultimately discover what has elevated it to the luxurious golden drink that we know today. \nWe will take you on a journey of in-depth discovery and offer you a wealth of knowledge to start you on your whisky adventure. Our Programme is an interactive learning environment where we put a lot of focus on the nosing\, tasting and overall sensory aspects of whisky. \nWhether you are just looking to broaden your knowledge\, impress your friends or being a career journey in Whisky; this course is the perfect launch-pad. \nAs a student\, you will receive your very own Glencairn tasting glass and our whisky masters tasting book. \nUpon successful completion of the Programme\, you will receive a “Whisky Masters Certificate” noting a pass or distinction award. \n\nClick HERE to register or send email to info@maltmastershk.com. or gaylord@maltmastershk.com \nTo find out more details including the curriculum\, head to Our Services page
URL:https://www.maltmastershk.com/event/whisky-masters-programme-february-2018/
CATEGORIES:Whisky Education
ATTACH;FMTTYPE=image/png:https://www.maltmastershk.com/wp-content/uploads/2017/12/Whisky-Masters-Programme-OCTOBER-FACEBOOK.png
ORGANIZER;CN="Malt Masters":MAILTO:info@maltmastershk.com
END:VEVENT
END:VCALENDAR